Package: DriverNet Version: 1.44.0 Command: /home/biocbuild/bbs-3.19-bioc/R/bin/R CMD build --keep-empty-dirs --no-resave-data DriverNet StartedAt: 2024-10-16 18:17:07 -0400 (Wed, 16 Oct 2024) EndedAt: 2024-10-16 18:17:37 -0400 (Wed, 16 Oct 2024) EllapsedTime: 29.0 seconds RetCode: 0 Status: OK PackageFile: DriverNet_1.44.0.tar.gz PackageFileSize: 1.117 MiB