Package: DriverNet Version: 1.44.0 Command: /home/biocbuild/bbs-3.19-bioc/R/bin/R CMD check --install=check:DriverNet.install-out.txt --library=/home/biocbuild/bbs-3.19-bioc/R/site-library --timings DriverNet_1.44.0.tar.gz StartedAt: 2024-10-16 23:59:07 -0400 (Wed, 16 Oct 2024) EndedAt: 2024-10-17 00:00:48 -0400 (Thu, 17 Oct 2024) EllapsedTime: 100.2 seconds RetCode: 0 Status: OK CheckDir: DriverNet.Rcheck Warnings: 0