Package: DriverNet Version: 1.44.0 Command: chmod a+r DriverNet -R && F:\biocbuild\bbs-3.19-bioc\R\bin\R.exe CMD build --keep-empty-dirs --no-resave-data DriverNet StartedAt: 2024-06-26 18:30:50 -0400 (Wed, 26 Jun 2024) EndedAt: 2024-06-26 18:31:32 -0400 (Wed, 26 Jun 2024) EllapsedTime: 42.1 seconds RetCode: 0 Status: OK PackageFile: DriverNet_1.44.0.tar.gz PackageFileSize: 1.117 MiB