Package: DrugVsDisease Version: 2.46.0 Command: /Library/Frameworks/R.framework/Resources/bin/R CMD INSTALL DrugVsDisease StartedAt: 2024-10-16 17:05:10 -0400 (Wed, 16 Oct 2024) EndedAt: 2024-10-16 17:05:53 -0400 (Wed, 16 Oct 2024) EllapsedTime: 42.2 seconds RetCode: 0 Status: OK