Package: DrugVsDisease Version: 2.46.0 Command: E:\biocbuild\bbs-3.19-bioc\R\bin\R.exe CMD INSTALL DrugVsDisease StartedAt: 2024-10-16 16:43:13 -0400 (Wed, 16 Oct 2024) EndedAt: 2024-10-16 16:44:03 -0400 (Wed, 16 Oct 2024) EllapsedTime: 50.2 seconds RetCode: 0 Status: OK