Package: Dune Version: 1.16.0 Command: /Library/Frameworks/R.framework/Resources/bin/R CMD build --keep-empty-dirs --no-resave-data Dune StartedAt: 2024-10-16 23:42:23 -0400 (Wed, 16 Oct 2024) EndedAt: 2024-10-16 23:43:08 -0400 (Wed, 16 Oct 2024) EllapsedTime: 45.7 seconds RetCode: 0 Status: OK PackageFile: Dune_1.16.0.tar.gz PackageFileSize: 2.295 MiB