Package: Dune Version: 1.16.0 Command: /Library/Frameworks/R.framework/Resources/bin/R CMD check --install=check:Dune.install-out.txt --library=/Library/Frameworks/R.framework/Resources/library --no-vignettes --timings Dune_1.16.0.tar.gz StartedAt: 2024-10-17 20:21:46 -0400 (Thu, 17 Oct 2024) EndedAt: 2024-10-17 20:27:18 -0400 (Thu, 17 Oct 2024) EllapsedTime: 331.5 seconds RetCode: 1 Status: ERROR CheckDir: Dune.Rcheck Warnings: NA