Package: Dune Version: 1.16.0 Command: chmod a+r Dune -R && E:\biocbuild\bbs-3.19-bioc\R\bin\R.exe CMD build --keep-empty-dirs --no-resave-data Dune StartedAt: 2024-10-16 18:48:24 -0400 (Wed, 16 Oct 2024) EndedAt: 2024-10-16 18:49:09 -0400 (Wed, 16 Oct 2024) EllapsedTime: 45.0 seconds RetCode: 0 Status: OK PackageFile: Dune_1.16.0.tar.gz PackageFileSize: 1.003 MiB