Package: DynDoc Version: 1.82.0 Command: /Library/Frameworks/R.framework/Resources/bin/R CMD check --install=check:DynDoc.install-out.txt --library=/Library/Frameworks/R.framework/Resources/library --no-vignettes --timings DynDoc_1.82.0.tar.gz StartedAt: 2024-06-10 14:27:03 -0400 (Mon, 10 Jun 2024) EndedAt: 2024-06-10 14:27:51 -0400 (Mon, 10 Jun 2024) EllapsedTime: 48.0 seconds RetCode: 0 Status: OK CheckDir: DynDoc.Rcheck Warnings: 0