Package: DynDoc Version: 1.82.0 Command: rm -rf DynDoc.buildbin-libdir && mkdir DynDoc.buildbin-libdir && E:\biocbuild\bbs-3.19-bioc\R\bin\R.exe CMD INSTALL --build --library=DynDoc.buildbin-libdir DynDoc_1.82.0.tar.gz StartedAt: 2024-10-17 07:43:42 -0400 (Thu, 17 Oct 2024) EndedAt: 2024-10-17 07:44:04 -0400 (Thu, 17 Oct 2024) EllapsedTime: 22.7 seconds RetCode: 0 Status: OK PackageFile: DynDoc_1.82.0.zip PackageFileSize: 217.7 KiB