Package: EBImage Version: 4.46.0 Command: /Library/Frameworks/R.framework/Resources/bin/R CMD build --keep-empty-dirs --no-resave-data EBImage StartedAt: 2024-10-16 18:55:24 -0400 (Wed, 16 Oct 2024) EndedAt: 2024-10-16 18:56:51 -0400 (Wed, 16 Oct 2024) EllapsedTime: 86.4 seconds RetCode: 0 Status: OK PackageFile: EBImage_4.46.0.tar.gz PackageFileSize: 6.296 MiB