Package: EBImage Version: 4.46.0 Command: /Library/Frameworks/R.framework/Resources/bin/R CMD check --install=check:EBImage.install-out.txt --library=/Library/Frameworks/R.framework/Resources/library --no-vignettes --timings EBImage_4.46.0.tar.gz StartedAt: 2024-10-17 04:42:46 -0400 (Thu, 17 Oct 2024) EndedAt: 2024-10-17 04:45:31 -0400 (Thu, 17 Oct 2024) EllapsedTime: 164.6 seconds RetCode: 0 Status: OK CheckDir: EBImage.Rcheck Warnings: 0