Package: EBImage Version: 4.46.0 Command: /home/biocbuild/bbs-3.19-bioc/R/bin/R CMD build --keep-empty-dirs --no-resave-data EBImage StartedAt: 2024-10-16 18:18:36 -0400 (Wed, 16 Oct 2024) EndedAt: 2024-10-16 18:19:23 -0400 (Wed, 16 Oct 2024) EllapsedTime: 47.1 seconds RetCode: 0 Status: OK PackageFile: EBImage_4.46.0.tar.gz PackageFileSize: 5.21 MiB