Package: EBImage Version: 4.46.0 Command: rm -rf EBImage.buildbin-libdir && mkdir EBImage.buildbin-libdir && E:\biocbuild\bbs-3.19-bioc\R\bin\R.exe CMD INSTALL --build --library=EBImage.buildbin-libdir EBImage_4.46.0.tar.gz StartedAt: 2024-10-17 07:43:55 -0400 (Thu, 17 Oct 2024) EndedAt: 2024-10-17 07:44:46 -0400 (Thu, 17 Oct 2024) EllapsedTime: 50.5 seconds RetCode: 0 Status: OK PackageFile: EBImage_4.46.0.zip PackageFileSize: 5.619 MiB