Package: EBImage Version: 4.46.0 Command: chmod a+r EBImage -R && E:\biocbuild\bbs-3.19-bioc\R\bin\R.exe CMD build --keep-empty-dirs --no-resave-data EBImage StartedAt: 2024-10-16 18:49:17 -0400 (Wed, 16 Oct 2024) EndedAt: 2024-10-16 18:50:17 -0400 (Wed, 16 Oct 2024) EllapsedTime: 60.1 seconds RetCode: 0 Status: OK PackageFile: EBImage_4.46.0.tar.gz PackageFileSize: 5.204 MiB