Package: EBSeq Version: 2.2.0 Command: /home/biocbuild/R/R-beta-2024-04-15_r86425/bin/R CMD build --keep-empty-dirs --no-resave-data EBSeq StartedAt: 2024-05-09 00:03:07 -0000 (Thu, 09 May 2024) EndedAt: 2024-05-09 00:03:09 -0000 (Thu, 09 May 2024) EllapsedTime: 2.0 seconds RetCode: 0 Status: OK PackageFile: EBSeq_2.2.0.tar.gz PackageFileSize: 1.07 MiB