Package: EBSeq Version: 2.2.0 Command: /Library/Frameworks/R.framework/Resources/bin/R CMD build --keep-empty-dirs --no-resave-data EBSeq StartedAt: 2024-10-16 18:55:28 -0400 (Wed, 16 Oct 2024) EndedAt: 2024-10-16 18:55:32 -0400 (Wed, 16 Oct 2024) EllapsedTime: 3.2 seconds RetCode: 0 Status: OK PackageFile: EBSeq_2.2.0.tar.gz PackageFileSize: 1.07 MiB