Package: EBSeq Version: 2.2.0 Command: /home/biocbuild/bbs-3.19-bioc/R/bin/R CMD INSTALL EBSeq StartedAt: 2024-10-16 16:25:45 -0400 (Wed, 16 Oct 2024) EndedAt: 2024-10-16 16:26:14 -0400 (Wed, 16 Oct 2024) EllapsedTime: 29.1 seconds RetCode: 0 Status: OK