Package: EDASeq Version: 2.38.0 Command: rm -rf EDASeq.buildbin-libdir && mkdir EDASeq.buildbin-libdir && /Users/biocbuild/BBS/utils/build-universal.sh EDASeq_2.38.0.tar.gz /Library/Frameworks/R.framework/Resources/bin/R EDASeq.buildbin-libdir StartedAt: 2024-10-18 18:18:25 -0400 (Fri, 18 Oct 2024) EndedAt: 2024-10-18 18:19:25 -0400 (Fri, 18 Oct 2024) EllapsedTime: 60.1 seconds RetCode: 0 Status: OK PackageFile: EDASeq_2.38.0.tgz PackageFileSize: 1.33 MiB