Package: EDASeq Version: 2.38.0 Command: /Library/Frameworks/R.framework/Resources/bin/R CMD check --install=check:EDASeq.install-out.txt --library=/Library/Frameworks/R.framework/Resources/library --no-vignettes --timings EDASeq_2.38.0.tar.gz StartedAt: 2024-10-17 20:28:01 -0400 (Thu, 17 Oct 2024) EndedAt: 2024-10-17 20:33:36 -0400 (Thu, 17 Oct 2024) EllapsedTime: 334.9 seconds RetCode: 0 Status: OK CheckDir: EDASeq.Rcheck Warnings: 0