Package: EDASeq Version: 2.38.0 Command: F:\biocbuild\bbs-3.19-bioc\R\bin\R.exe CMD check --no-multiarch --install=check:EDASeq.install-out.txt --library=F:\biocbuild\bbs-3.19-bioc\R\library --no-vignettes --timings EDASeq_2.38.0.tar.gz StartedAt: 2024-06-27 01:17:31 -0400 (Thu, 27 Jun 2024) EndedAt: 2024-06-27 01:23:13 -0400 (Thu, 27 Jun 2024) EllapsedTime: 342.5 seconds RetCode: 0 Status: OK CheckDir: EDASeq.Rcheck Warnings: 0