Package: EDASeq Version: 2.38.0 Command: chmod a+r EDASeq -R && E:\biocbuild\bbs-3.19-bioc\R\bin\R.exe CMD build --keep-empty-dirs --no-resave-data EDASeq StartedAt: 2024-10-16 18:49:31 -0400 (Wed, 16 Oct 2024) EndedAt: 2024-10-16 18:51:09 -0400 (Wed, 16 Oct 2024) EllapsedTime: 97.9 seconds RetCode: 0 Status: OK PackageFile: EDASeq_2.38.0.tar.gz PackageFileSize: 569.7 KiB