Package: EDIRquery Version: 1.4.0 Command: /Library/Frameworks/R.framework/Resources/bin/R CMD build --keep-empty-dirs --no-resave-data EDIRquery StartedAt: 2024-10-16 18:56:03 -0400 (Wed, 16 Oct 2024) EndedAt: 2024-10-16 18:57:36 -0400 (Wed, 16 Oct 2024) EllapsedTime: 92.3 seconds RetCode: 0 Status: OK PackageFile: EDIRquery_1.4.0.tar.gz PackageFileSize: 1.376 MiB