Package: EDIRquery Version: 1.4.0 Command: rm -rf EDIRquery.buildbin-libdir && mkdir EDIRquery.buildbin-libdir && F:\biocbuild\bbs-3.19-bioc\R\bin\R.exe CMD INSTALL --build --library=EDIRquery.buildbin-libdir EDIRquery_1.4.0.tar.gz StartedAt: 2024-06-27 08:09:38 -0400 (Thu, 27 Jun 2024) EndedAt: 2024-06-27 08:10:21 -0400 (Thu, 27 Jun 2024) EllapsedTime: 43.0 seconds RetCode: 0 Status: OK PackageFile: EDIRquery_1.4.0.zip PackageFileSize: 1.629 MiB