Package: EDIRquery Version: 1.4.0 Command: F:\biocbuild\bbs-3.19-bioc\R\bin\R.exe CMD INSTALL EDIRquery StartedAt: 2024-06-26 15:53:46 -0400 (Wed, 26 Jun 2024) EndedAt: 2024-06-26 15:54:19 -0400 (Wed, 26 Jun 2024) EllapsedTime: 33.3 seconds RetCode: 0 Status: OK