Package: EDIRquery Version: 1.4.0 Command: chmod a+r EDIRquery -R && E:\biocbuild\bbs-3.19-bioc\R\bin\R.exe CMD build --keep-empty-dirs --no-resave-data EDIRquery StartedAt: 2024-10-16 18:49:51 -0400 (Wed, 16 Oct 2024) EndedAt: 2024-10-16 18:50:37 -0400 (Wed, 16 Oct 2024) EllapsedTime: 45.8 seconds RetCode: 0 Status: OK PackageFile: EDIRquery_1.4.0.tar.gz PackageFileSize: 1.377 MiB