Package: EGAD Version: 1.32.0 Command: chmod a+r EGAD -R && E:\biocbuild\bbs-3.19-bioc\R\bin\R.exe CMD build --keep-empty-dirs --no-resave-data EGAD StartedAt: 2024-10-16 18:50:12 -0400 (Wed, 16 Oct 2024) EndedAt: 2024-10-16 18:50:20 -0400 (Wed, 16 Oct 2024) EllapsedTime: 8.0 seconds RetCode: 0 Status: OK PackageFile: EGAD_1.32.0.tar.gz PackageFileSize: 14.57 MiB