Package: EWCE Version: 1.12.0 Command: /Library/Frameworks/R.framework/Resources/bin/R CMD build --keep-empty-dirs --no-resave-data EWCE StartedAt: 2024-10-17 00:16:34 -0400 (Thu, 17 Oct 2024) EndedAt: 2024-10-17 00:21:21 -0400 (Thu, 17 Oct 2024) EllapsedTime: 286.6 seconds RetCode: 0 Status: OK PackageFile: EWCE_1.12.0.tar.gz PackageFileSize: 2.54 MiB