Package: EWCE Version: 1.12.0 Command: /home/biocbuild/R/R-beta-2024-04-15_r86425/bin/R CMD check --install=check:EWCE.install-out.txt --library=/home/biocbuild/R/R-beta-2024-04-15_r86425/site-library --no-vignettes --timings EWCE_1.12.0.tar.gz StartedAt: 2024-05-09 07:17:30 -0000 (Thu, 09 May 2024) EndedAt: 2024-05-09 07:39:15 -0000 (Thu, 09 May 2024) EllapsedTime: 1305.6 seconds RetCode: 0 Status: OK CheckDir: EWCE.Rcheck Warnings: 0