Package: EWCE Version: 1.12.0 Command: /Library/Frameworks/R.framework/Resources/bin/R CMD INSTALL EWCE StartedAt: 2024-10-16 16:51:09 -0400 (Wed, 16 Oct 2024) EndedAt: 2024-10-16 16:52:31 -0400 (Wed, 16 Oct 2024) EllapsedTime: 82.1 seconds RetCode: 0 Status: OK