Package: EWCE Version: 1.12.0 Command: /home/biocbuild/bbs-3.19-bioc/R/bin/R CMD check --install=check:EWCE.install-out.txt --library=/home/biocbuild/bbs-3.19-bioc/R/site-library --timings EWCE_1.12.0.tar.gz StartedAt: 2024-10-17 00:19:14 -0400 (Thu, 17 Oct 2024) EndedAt: 2024-10-17 00:40:34 -0400 (Thu, 17 Oct 2024) EllapsedTime: 1280.0 seconds RetCode: 0 Status: OK CheckDir: EWCE.Rcheck Warnings: 0