Package: EWCE Version: 1.12.0 Command: rm -rf EWCE.buildbin-libdir && mkdir EWCE.buildbin-libdir && E:\biocbuild\bbs-3.19-bioc\R\bin\R.exe CMD INSTALL --build --library=EWCE.buildbin-libdir EWCE_1.12.0.tar.gz StartedAt: 2024-10-17 07:46:39 -0400 (Thu, 17 Oct 2024) EndedAt: 2024-10-17 07:47:40 -0400 (Thu, 17 Oct 2024) EllapsedTime: 61.1 seconds RetCode: 0 Status: OK PackageFile: EWCE_1.12.0.zip PackageFileSize: 2.135 MiB