Package: EWCE Version: 1.12.0 Command: chmod a+r EWCE -R && E:\biocbuild\bbs-3.19-bioc\R\bin\R.exe CMD build --keep-empty-dirs --no-resave-data EWCE StartedAt: 2024-10-16 19:04:17 -0400 (Wed, 16 Oct 2024) EndedAt: 2024-10-16 19:10:47 -0400 (Wed, 16 Oct 2024) EllapsedTime: 390.0 seconds RetCode: 0 Status: OK PackageFile: EWCE_1.12.0.tar.gz PackageFileSize: 1.797 MiB