Package: EWCE Version: 1.12.0 Command: E:\biocbuild\bbs-3.19-bioc\R\bin\R.exe CMD check --no-multiarch --install=check:EWCE.install-out.txt --library=E:\biocbuild\bbs-3.19-bioc\R\library --no-vignettes --timings EWCE_1.12.0.tar.gz StartedAt: 2024-10-17 01:22:03 -0400 (Thu, 17 Oct 2024) EndedAt: 2024-10-17 01:41:24 -0400 (Thu, 17 Oct 2024) EllapsedTime: 1160.2 seconds RetCode: 0 Status: OK CheckDir: EWCE.Rcheck Warnings: 0