Package: EnrichedHeatmap Version: 1.34.0 Command: /Library/Frameworks/R.framework/Resources/bin/R CMD build --keep-empty-dirs --no-resave-data EnrichedHeatmap StartedAt: 2024-10-16 23:57:13 -0400 (Wed, 16 Oct 2024) EndedAt: 2024-10-17 00:03:53 -0400 (Thu, 17 Oct 2024) EllapsedTime: 399.4 seconds RetCode: 0 Status: OK PackageFile: EnrichedHeatmap_1.34.0.tar.gz PackageFileSize: 13.16 MiB