Package: EnrichedHeatmap Version: 1.34.0 Command: /Library/Frameworks/R.framework/Resources/bin/R CMD check --install=check:EnrichedHeatmap.install-out.txt --library=/Library/Frameworks/R.framework/Resources/library --no-vignettes --timings EnrichedHeatmap_1.34.0.tar.gz StartedAt: 2024-10-17 20:41:46 -0400 (Thu, 17 Oct 2024) EndedAt: 2024-10-17 20:44:09 -0400 (Thu, 17 Oct 2024) EllapsedTime: 143.1 seconds RetCode: 0 Status: OK CheckDir: EnrichedHeatmap.Rcheck Warnings: 0