Package: EnrichedHeatmap Version: 1.34.0 Command: rm -rf EnrichedHeatmap.buildbin-libdir && mkdir EnrichedHeatmap.buildbin-libdir && E:\biocbuild\bbs-3.19-bioc\R\bin\R.exe CMD INSTALL --build --library=EnrichedHeatmap.buildbin-libdir EnrichedHeatmap_1.34.0.tar.gz StartedAt: 2024-10-17 07:44:52 -0400 (Thu, 17 Oct 2024) EndedAt: 2024-10-17 07:45:37 -0400 (Thu, 17 Oct 2024) EllapsedTime: 45.0 seconds RetCode: 0 Status: OK PackageFile: EnrichedHeatmap_1.34.0.zip PackageFileSize: 8.953 MiB