Package: EpiCompare Version: 1.8.1 Command: rm -rf EpiCompare.buildbin-libdir && mkdir EpiCompare.buildbin-libdir && /Users/biocbuild/BBS/utils/build-universal.sh EpiCompare_1.8.1.tar.gz /Library/Frameworks/R.framework/Resources/bin/R EpiCompare.buildbin-libdir StartedAt: 2024-10-18 18:21:21 -0400 (Fri, 18 Oct 2024) EndedAt: 2024-10-18 18:22:31 -0400 (Fri, 18 Oct 2024) EllapsedTime: 70.5 seconds RetCode: 0 Status: OK PackageFile: EpiCompare_1.8.1.tgz PackageFileSize: 1.648 MiB