Package: EpiCompare Version: 1.8.1 Command: /Library/Frameworks/R.framework/Resources/bin/R CMD build --keep-empty-dirs --no-resave-data EpiCompare StartedAt: 2024-10-17 00:01:15 -0400 (Thu, 17 Oct 2024) EndedAt: 2024-10-17 00:02:47 -0400 (Thu, 17 Oct 2024) EllapsedTime: 92.2 seconds RetCode: 0 Status: OK PackageFile: EpiCompare_1.8.1.tar.gz PackageFileSize: 1.869 MiB