Package: EpiCompare Version: 1.8.1 Command: /Library/Frameworks/R.framework/Resources/bin/R CMD check --install=check:EpiCompare.install-out.txt --library=/Library/Frameworks/R.framework/Resources/library --no-vignettes --timings EpiCompare_1.8.1.tar.gz StartedAt: 2024-10-17 20:49:39 -0400 (Thu, 17 Oct 2024) EndedAt: 2024-10-17 21:02:44 -0400 (Thu, 17 Oct 2024) EllapsedTime: 785.4 seconds RetCode: 1 Status: ERROR CheckDir: EpiCompare.Rcheck Warnings: NA