Package: EpiCompare Version: 1.8.1 Command: /Library/Frameworks/R.framework/Resources/bin/R CMD INSTALL EpiCompare StartedAt: 2024-10-16 17:52:12 -0400 (Wed, 16 Oct 2024) EndedAt: 2024-10-16 17:53:10 -0400 (Wed, 16 Oct 2024) EllapsedTime: 58.5 seconds RetCode: 0 Status: OK