Package: EpiCompare Version: 1.8.0 Command: /home/biocbuild/R/R-beta-2024-04-15_r86425/bin/R CMD build --keep-empty-dirs --no-resave-data EpiCompare StartedAt: 2024-05-09 00:07:24 -0000 (Thu, 09 May 2024) EndedAt: 2024-05-09 00:09:09 -0000 (Thu, 09 May 2024) EllapsedTime: 105.1 seconds RetCode: 0 Status: OK PackageFile: EpiCompare_1.8.0.tar.gz PackageFileSize: 1.943 MiB