Package: EpiCompare Version: 1.8.1 Command: /Library/Frameworks/R.framework/Resources/bin/R CMD check --install=check:EpiCompare.install-out.txt --library=/Library/Frameworks/R.framework/Resources/library --no-vignettes --timings EpiCompare_1.8.1.tar.gz StartedAt: 2024-10-17 04:50:37 -0400 (Thu, 17 Oct 2024) EndedAt: 2024-10-17 05:17:10 -0400 (Thu, 17 Oct 2024) EllapsedTime: 1593.1 seconds RetCode: 1 Status: ERROR CheckDir: EpiCompare.Rcheck Warnings: NA