Package: EpiCompare Version: 1.8.1 Command: /home/biocbuild/bbs-3.19-bioc/R/bin/R CMD build --keep-empty-dirs --no-resave-data EpiCompare StartedAt: 2024-10-16 18:22:03 -0400 (Wed, 16 Oct 2024) EndedAt: 2024-10-16 18:23:15 -0400 (Wed, 16 Oct 2024) EllapsedTime: 72.1 seconds RetCode: 0 Status: OK PackageFile: EpiCompare_1.8.1.tar.gz PackageFileSize: 1.869 MiB