Package: EpiCompare Version: 1.8.0 Command: chmod a+r EpiCompare -R && F:\biocbuild\bbs-3.19-bioc\R\bin\R.exe CMD build --keep-empty-dirs --no-resave-data EpiCompare StartedAt: 2024-06-26 18:36:39 -0400 (Wed, 26 Jun 2024) EndedAt: 2024-06-26 18:38:28 -0400 (Wed, 26 Jun 2024) EllapsedTime: 109.0 seconds RetCode: 0 Status: OK PackageFile: EpiCompare_1.8.0.tar.gz PackageFileSize: 1.869 MiB