Package: EpiCompare Version: 1.8.0 Command: F:\biocbuild\bbs-3.19-bioc\R\bin\R.exe CMD INSTALL EpiCompare StartedAt: 2024-06-26 16:32:23 -0400 (Wed, 26 Jun 2024) EndedAt: 2024-06-26 16:33:35 -0400 (Wed, 26 Jun 2024) EllapsedTime: 72.4 seconds RetCode: 0 Status: OK