Package: EpiCompare Version: 1.8.1 Command: rm -rf EpiCompare.buildbin-libdir && mkdir EpiCompare.buildbin-libdir && E:\biocbuild\bbs-3.19-bioc\R\bin\R.exe CMD INSTALL --build --library=EpiCompare.buildbin-libdir EpiCompare_1.8.1.tar.gz StartedAt: 2024-10-17 07:45:08 -0400 (Thu, 17 Oct 2024) EndedAt: 2024-10-17 07:46:31 -0400 (Thu, 17 Oct 2024) EllapsedTime: 83.5 seconds RetCode: 0 Status: OK PackageFile: EpiCompare_1.8.1.zip PackageFileSize: 1.657 MiB