Package: EpiCompare Version: 1.8.1 Command: E:\biocbuild\bbs-3.19-bioc\R\bin\R.exe CMD INSTALL EpiCompare StartedAt: 2024-10-16 16:59:01 -0400 (Wed, 16 Oct 2024) EndedAt: 2024-10-16 17:00:18 -0400 (Wed, 16 Oct 2024) EllapsedTime: 76.4 seconds RetCode: 0 Status: OK