Package: EpiTxDb Version: 1.16.0 Command: /home/biocbuild/R/R-beta-2024-04-15_r86425/bin/R CMD INSTALL EpiTxDb StartedAt: 2024-05-08 20:29:53 -0000 (Wed, 08 May 2024) EndedAt: 2024-05-08 20:30:51 -0000 (Wed, 08 May 2024) EllapsedTime: 58.1 seconds RetCode: 0 Status: OK