Package: ExperimentHub Version: 2.12.0 Command: /Library/Frameworks/R.framework/Resources/bin/R CMD build --keep-empty-dirs --no-resave-data ExperimentHub StartedAt: 2024-10-16 19:10:01 -0400 (Wed, 16 Oct 2024) EndedAt: 2024-10-16 19:11:35 -0400 (Wed, 16 Oct 2024) EllapsedTime: 94.1 seconds RetCode: 0 Status: OK PackageFile: ExperimentHub_2.12.0.tar.gz PackageFileSize: 488.9 KiB